BEGIN:VCALENDAR
VERSION:2.0
PRODID:icalendar-ruby
CALSCALE:GREGORIAN
METHOD:PUBLISH
BEGIN:VEVENT
DTSTAMP:20260422T111240Z
UID:6-739904@tricitybaptistsc.com
DTSTART:20261004T134500Z
DTEND:20261004T144000Z
CLASS:PUBLIC
CREATED:20260421T205827
DESCRIPTION:Sunday School
LAST-MODIFIED:20260421T205827
LOCATION:
SUMMARY:Sunday School
URL;VALUE=URI:https://tricitybaptistsc.com/events/sunday-school/2026-10-04
ATTACH;FILENAME=vpbPKBUbZ7eDQ5aKXkJwgz3bW6w.jpg;FMTTYPE=image/jpeg:https://
 dq5pwpg1q8ru0.cloudfront.net/2024/01/12/19/05/24/5bc472e0-5f88-4b57-9526-c
 30131542a79/vpbPKBUbZ7eDQ5aKXkJwgz3bW6w.jpg
END:VEVENT
END:VCALENDAR
